BEGIN:VCALENDAR
VERSION:2.0
PRODID:-//hacksw/handcal//NONSGML v1.0//EN
BEGIN:VEVENT
SUMMARY:CHALLENGE FLATTOT 2026 A RIOM
UID:510d091d-6ad1-4915-89af-441ec6726245
DTSTART:20260418T220000Z
DTEND:20260419T220000Z
LOCATION:Localisation   
CATEGORIES:Sportif
STATUS:
DESCRIPTION:<p>Par une belle journee du Vendredi 17 avril s'est
 deroule le challenge Flattot en hommage a l'ancien president du club.
 Comme chaque annee une equipe de la LPPTC a particpe a ce
 concours.</p>
 
 <p>L'equipe etait composee de : Dominique Laboureau,
 Pascal Bornat, Guy Laroche, Laurent Moscato, Serge Levadoux et
 Jean-Louis Crayssac</p>
 
 <p>Les rencontres se jouent en deux
 doublettes et une triplette rencontrant en meme temps deux clubs le
 matin puis deux autres l'apres midi.</p>
 
 <p>La traditionnelle paella
 geante a ete servie a plus de deux cents personnes par les benevoles
 du club dans la superbe salle Dumoulin </p>
 
 <p>A l'issue des 4
 premieres parties St Julien de Coppel qualifie por la petite finale
 s'est impose. Le club termine donc troisieme derriere les vainqueurs
 d'Aulnat et les finalistes Chamalieres.</p>
 
 <p>Les challenges ont
 ete gentiment remis par Mme Flattot et sa fille</p>
 
 <p>A noter que
 le resultat de la LPPTC est le meilleur depuis la participation du
 club a ce challenge.</p>
 
 <p>Une fois de plus, le succes de cet
 evenement revient en grande partie a tous les benevoles du club de
 Riom qui comme chaque annee a reussi ce challenge.</p>
URL;VALUE=URI:https://petanquesaintjuliendecoppel.sportsregions.fr/evenements/2026/04/19/challenge-flattot-2026-a-riom-2442787
END:VEVENT
END:VCALENDAR
